BEGIN:VCALENDAR
VERSION:2.0
PRODID:spatie/icalendar-generator
DESCRIPTION:Veranstaltungen von Kunsthandwerk vomGünter
X-WR-CALDESC:Veranstaltungen von Kunsthandwerk vomGünter
REFRESH-INTERVAL;VALUE=DURATION:PT1440M
X-PUBLISHED-TTL:PT1440M
BEGIN:VTIMEZONE
TZID:Europe/Berlin
BEGIN:STANDARD
DTSTART:20251026T030000Z
TZOFFSETFROM:+0200
TZOFFSETTO:+0100
END:STANDARD
BEGIN:DAYLIGHT
DTSTART:20260329T020000Z
TZOFFSETFROM:+0100
TZOFFSETTO:+0200
END:DAYLIGHT
BEGIN:STANDARD
DTSTART:20261025T030000Z
TZOFFSETFROM:+0200
TZOFFSETTO:+0100
END:STANDARD
END:VTIMEZONE
BEGIN:VTIMEZONE
TZID:UTC
BEGIN:STANDARD
DTSTART:20250724T104722Z
TZOFFSETFROM:+0000
TZOFFSETTO:+0000
END:STANDARD
END:VTIMEZONE
BEGIN:VEVENT
UID:17-10
DTSTAMP:20260420T104722Z
SUMMARY:Genussmarkt Langenlois
LOCATION:Holzplatz Holzplatz  Langenlois  3550
ORGANIZER;CN=vomguenter:MAILTO:guenter.humpelstetter@gmx.at
DTSTART;TZID=Europe/Berlin:20260411T093000
DTEND;TZID=Europe/Berlin:20260411T133000
X-ALT-DESC;FMTTYPE=TEXT/HTML:Winzer\, Gastronomen\, Produzenten regionaler 
 Lebensmittel sowie Handwerker und Künstler präsentieren ihre Köstlichke
 iten und Werke am Holzplatz. Regionalität ist in einer Stadt\, die sich s
 eit Jahrhunderten dem Weinbau verschrieben hat\, gelebte Selbstverständli
 chkeit. Mit insgesamt sieben Genussmarkt-Terminen von April bis Dezember e
 rhält diese Tradition einen weiteren Impuls. Die Anbieter präsentieren s
 ich auf dem Platzbereich direkt vor und&amp;hellip\;
CATEGORIES:Kunsthandwerksmarkt
URL;VALUE=URI:https://vomguenter.com/mc-events/genussmarkt-langenlois/
METHOD:PUBLISH
END:VEVENT
BEGIN:VEVENT
UID:86-70
DTSTAMP:20260420T104722Z
SUMMARY:Weinfrühling am Bio Weingut Amon Gobelsburg
LOCATION:Bio Weingut Amon Weinstraße 13  Gobelsburg  3550
ORGANIZER;CN=vomguenter:MAILTO:guenter.humpelstetter@gmx.at
DTSTART;TZID=Europe/Berlin:20260425T100000
DTEND;TZID=Europe/Berlin:20260425T180000
X-ALT-DESC;FMTTYPE=TEXT/HTML:Weinfrühling 2026 Was unbedingt mal beim Wein
 frühling besucht werden sollte? Gobelsburg! 😌 Kommt vorbei beim Bio We
 ingut Amon und genießt neben den Weinen auch die Möglichkeit auf einziga
 rtige regional und handgemachte Kunst „vom Günter“ 🫶🏻 Am 25. un
 d 26. April 2026 laden die drei Weinbauregionen Kamptal\, Kremstal und Tra
 isental zum gemeinsamen Verkosten des neuen Jahrgangs&amp;hellip\;
CATEGORIES:General
URL;VALUE=URI:https://vomguenter.com/mc-events/weinfruehling-am-bio-weingut
 -amon-gobelsburg/
METHOD:PUBLISH
END:VEVENT
BEGIN:VEVENT
UID:87-71
DTSTAMP:20260420T104722Z
SUMMARY:Weinfrühling am Bio Weingut Amon Gobelsburg
LOCATION:Bio Weingut Amon Weinstraße 13  Gobelsburg  3550
ORGANIZER;CN=vomguenter:MAILTO:guenter.humpelstetter@gmx.at
DTSTART;TZID=Europe/Berlin:20260426T100000
DTEND;TZID=Europe/Berlin:20260426T180000
X-ALT-DESC;FMTTYPE=TEXT/HTML:Weinfrühling 2026 Was unbedingt mal beim Wein
 frühling besucht werden sollte? Gobelsburg! 😌 Kommt vorbei beim Bio We
 ingut Amon und genießt neben den Weinen auch die Möglichkeit auf einziga
 rtige regional und handgemachte Kunst „vom Günter“ 🫶🏻 Am 25. un
 d 26. April 2026 laden die drei Weinbauregionen Kamptal\, Kremstal und Tra
 isental zum gemeinsamen Verkosten des neuen Jahrgangs&amp;hellip\;
CATEGORIES:General
URL;VALUE=URI:https://vomguenter.com/mc-events/weinfruehling-am-bio-weingut
 -amon-gobelsburg-2/
METHOD:PUBLISH
END:VEVENT
END:VCALENDAR