BEGIN:VCALENDAR
VERSION:2.0
PRODID:spatie/icalendar-generator
DESCRIPTION:Veranstaltungen von Kunsthandwerk vomGünter
X-WR-CALDESC:Veranstaltungen von Kunsthandwerk vomGünter
REFRESH-INTERVAL;VALUE=DURATION:PT1440M
X-PUBLISHED-TTL:PT1440M
BEGIN:VTIMEZONE
TZID:Europe/Berlin
BEGIN:DAYLIGHT
DTSTART:20260329T020000Z
TZOFFSETFROM:+0100
TZOFFSETTO:+0200
END:DAYLIGHT
BEGIN:STANDARD
DTSTART:20261025T030000Z
TZOFFSETFROM:+0200
TZOFFSETTO:+0100
END:STANDARD
END:VTIMEZONE
BEGIN:VTIMEZONE
TZID:UTC
BEGIN:STANDARD
DTSTART:20250726T104640Z
TZOFFSETFROM:+0000
TZOFFSETTO:+0000
END:STANDARD
END:VTIMEZONE
BEGIN:VEVENT
UID:33-23
DTSTAMP:20260422T104640Z
SUMMARY:Genussmarkt Langenlois
LOCATION:Holzplatz Holzplatz  Langenlois  3550
ORGANIZER;CN=vomguenter:MAILTO:guenter.humpelstetter@gmx.at
DTSTART;TZID=Europe/Berlin:20260808T093000
DTEND;TZID=Europe/Berlin:20260808T133000
X-ALT-DESC;FMTTYPE=TEXT/HTML:Winzer\, Gastronomen\, Produzenten regionaler 
 Lebensmittel sowie Handwerker und Künstler präsentieren ihre Köstlichke
 iten und Werke am Holzplatz. Regionalität ist in einer Stadt\, die sich s
 eit Jahrhunderten dem Weinbau verschrieben hat\, gelebte Selbstverständli
 chkeit. Mit insgesamt sieben Genussmarkt-Terminen von April bis Dezember e
 rhält diese Tradition einen weiteren Impuls. Die Anbieter präsentieren s
 ich auf dem Platzbereich direkt vor und&amp;hellip\;
CATEGORIES:Kunsthandwerksmarkt
URL;VALUE=URI:https://vomguenter.com/mc-events/genussmarkt-langenlois-3/
METHOD:PUBLISH
END:VEVENT
END:VCALENDAR