BEGIN:VCALENDAR
VERSION:2.0
PRODID:spatie/icalendar-generator
DESCRIPTION:Veranstaltungen von Kunsthandwerk vomGünter
X-WR-CALDESC:Veranstaltungen von Kunsthandwerk vomGünter
REFRESH-INTERVAL;VALUE=DURATION:PT1440M
X-PUBLISHED-TTL:PT1440M
BEGIN:VTIMEZONE
TZID:Europe/Berlin
BEGIN:DAYLIGHT
DTSTART:20260329T020000Z
TZOFFSETFROM:+0100
TZOFFSETTO:+0200
END:DAYLIGHT
BEGIN:STANDARD
DTSTART:20261025T030000Z
TZOFFSETFROM:+0200
TZOFFSETTO:+0100
END:STANDARD
BEGIN:DAYLIGHT
DTSTART:20270328T020000Z
TZOFFSETFROM:+0100
TZOFFSETTO:+0200
END:DAYLIGHT
END:VTIMEZONE
BEGIN:VTIMEZONE
TZID:UTC
BEGIN:STANDARD
DTSTART:20250726T104301Z
TZOFFSETFROM:+0000
TZOFFSETTO:+0000
END:STANDARD
END:VTIMEZONE
BEGIN:VEVENT
UID:59-44
DTSTAMP:20260422T104301Z
SUMMARY:dieKunsthandwerker Zwettl
LOCATION:Zwettl\, Dreifaltigkeitsplatz Dreifaltigkeitsplatz  Zwettl   3910
ORGANIZER;CN=vomguenter:MAILTO:guenter.humpelstetter@gmx.at
DTSTART;TZID=Europe/Berlin:20261004T100000
DTEND;TZID=Europe/Berlin:20261004T170000
X-ALT-DESC;FMTTYPE=TEXT/HTML:Bereits seit vielen Jahren findet der gut besu
 chte Kunsthandwerksmarkt in der Einkaufsstadt Zwettl statt. Genieße einen
  Bummel durch den Markt im belebten Zentrum von Zwettl. Dich erwartet ein 
 buntes und vielfältiges Angebot hochwertiger Handwerkskunst und erfrische
 nde neue Ideen\, Keramik aller Art\, duftende Seifen\, altes Holz neu vera
 rbeitet\, coole\, bunte Taschen\, Dinkelkissen und vieles mehr. Bei&amp;hellip
 \;
CATEGORIES:Kunsthandwerksmarkt
URL;VALUE=URI:https://vomguenter.com/mc-events/diekunsthandwerker-zwettl-3/
METHOD:PUBLISH
END:VEVENT
END:VCALENDAR