BEGIN:VCALENDAR
VERSION:2.0
PRODID:spatie/icalendar-generator
DESCRIPTION:Veranstaltungen von Kunsthandwerk vomGünter
X-WR-CALDESC:Veranstaltungen von Kunsthandwerk vomGünter
REFRESH-INTERVAL;VALUE=DURATION:PT1440M
X-PUBLISHED-TTL:PT1440M
BEGIN:VTIMEZONE
TZID:Europe/Berlin
BEGIN:DAYLIGHT
DTSTART:20260329T020000Z
TZOFFSETFROM:+0100
TZOFFSETTO:+0200
END:DAYLIGHT
BEGIN:STANDARD
DTSTART:20261025T030000Z
TZOFFSETFROM:+0200
TZOFFSETTO:+0100
END:STANDARD
END:VTIMEZONE
BEGIN:VTIMEZONE
TZID:UTC
BEGIN:STANDARD
DTSTART:20250726T104025Z
TZOFFSETFROM:+0000
TZOFFSETTO:+0000
END:STANDARD
END:VTIMEZONE
BEGIN:VEVENT
UID:82-67
DTSTAMP:20260422T104025Z
SUMMARY:Kunsthandwerksmarkt Grein a.d. Donau
LOCATION:Kunsthandwerksmarkt Grein Stadtplatz   Grein  4360
ORGANIZER;CN=vomguenter:MAILTO:guenter.humpelstetter@gmx.at
DTSTART;TZID=Europe/Berlin:20260918T130000
DTEND;TZID=Europe/Berlin:20260918T180000
X-ALT-DESC;FMTTYPE=TEXT/HTML:Das künstlerische Angebot in höchster Qualit
 ät und das Rahmenprogramm des Kunsthandwerksmarktes im idyllischen Städt
 chen Grein an der Donau bietet Unterhaltung für Genießer von Kunst und K
 ultur. Der Greiner Kunsthandwerksmarkt wurde mit dem österreichischen Gü
 tesiegel für „Qualität in Kunst und Handwerk“ ausgezeichnet und steh
 t im Österreich-Ranking der besten Kunsthandwerksmärkte auf Platz 2.  I
 m malerischen Städtchen Grein&amp;hellip\;
CATEGORIES:Kunsthandwerksmarkt
URL;VALUE=URI:https://vomguenter.com/mc-events/kunsthandwerksmarkt-grein-a-
 d-donau/
METHOD:PUBLISH
END:VEVENT
END:VCALENDAR