BEGIN:VCALENDAR
VERSION:2.0
PRODID:spatie/icalendar-generator
DESCRIPTION:Veranstaltungen von Kunsthandwerk vomGünter
X-WR-CALDESC:Veranstaltungen von Kunsthandwerk vomGünter
REFRESH-INTERVAL;VALUE=DURATION:PT1440M
X-PUBLISHED-TTL:PT1440M
BEGIN:VTIMEZONE
TZID:Europe/Berlin
BEGIN:STANDARD
DTSTART:20251026T030000Z
TZOFFSETFROM:+0200
TZOFFSETTO:+0100
END:STANDARD
BEGIN:DAYLIGHT
DTSTART:20260329T020000Z
TZOFFSETFROM:+0100
TZOFFSETTO:+0200
END:DAYLIGHT
END:VTIMEZONE
BEGIN:VTIMEZONE
TZID:UTC
BEGIN:STANDARD
DTSTART:20250728T115409Z
TZOFFSETFROM:+0000
TZOFFSETTO:+0000
END:STANDARD
END:VTIMEZONE
BEGIN:VEVENT
UID:16-9
DTSTAMP:20260424T115409Z
SUMMARY:Ostermarkt im Brandlhof und im Kulturpavillon in Radlbrunn
LOCATION:Brandlhof und Kulturpavillon  Radlbrunn 24  Radlbrunn   3710
ORGANIZER;CN=vomguenter:MAILTO:guenter.humpelstetter@gmx.at
DTSTART;TZID=Europe/Berlin:20260329T100000
DTEND;TZID=Europe/Berlin:20260329T170000
X-ALT-DESC;FMTTYPE=TEXT/HTML:Am Palmsonntag lädt die Volkskultur Niederös
 terreich als Teilbetrieb der Kultur.Region.Niederösterreich zum Ostermark
 t in den idyllischen Brandlhof und den neu errichteten Kulturpavillon in R
 adlbrunn. Der Fokus liegt auf traditionellen Handwerkstechniken und hochwe
 rtiger Manufakturware. Erstmals mit dabei: Harfenbauer Gabriel Schwarzmann
 \, Vergolderin Elfriede Edlmaier\, Tischler Anton Farthofer\, Filzkunsthan
 dwerkerin Sabine Krammer\, Ratschenbauer Ernst Ribisch und die Keramikerin
  Andrea Hogl.&amp;hellip\;
CATEGORIES:Kunsthandwerksmarkt
URL;VALUE=URI:https://vomguenter.com/mc-events/ostermarkt-im-brandlhof-und-
 im-kulturpavillon-in-radlbrunn/
METHOD:PUBLISH
END:VEVENT
END:VCALENDAR