BEGIN:VCALENDAR
VERSION:2.0
PRODID:spatie/icalendar-generator
DESCRIPTION:Veranstaltungen von Kunsthandwerk vomGünter
X-WR-CALDESC:Veranstaltungen von Kunsthandwerk vomGünter
REFRESH-INTERVAL;VALUE=DURATION:PT1440M
X-PUBLISHED-TTL:PT1440M
BEGIN:VTIMEZONE
TZID:Europe/Berlin
BEGIN:STANDARD
DTSTART:20251026T030000Z
TZOFFSETFROM:+0200
TZOFFSETTO:+0100
END:STANDARD
BEGIN:DAYLIGHT
DTSTART:20260329T020000Z
TZOFFSETFROM:+0100
TZOFFSETTO:+0200
END:DAYLIGHT
BEGIN:STANDARD
DTSTART:20261025T030000Z
TZOFFSETFROM:+0200
TZOFFSETTO:+0100
END:STANDARD
END:VTIMEZONE
BEGIN:VTIMEZONE
TZID:UTC
BEGIN:STANDARD
DTSTART:20250726T090415Z
TZOFFSETFROM:+0000
TZOFFSETTO:+0000
END:STANDARD
END:VTIMEZONE
BEGIN:VEVENT
UID:21-14
DTSTAMP:20260422T090415Z
SUMMARY:dieKunsthandwerker St.Pölten
LOCATION:St. Pölten\, Rathausplatz  Rathausplatz  St. Pölten  3100
ORGANIZER;CN=vomguenter:MAILTO:guenter.humpelstetter@gmx.at
DTSTART;TZID=Europe/Berlin:20260507T100000
DTEND;TZID=Europe/Berlin:20260507T180000
X-ALT-DESC;FMTTYPE=TEXT/HTML:Der Kunsthandwerksmarkt am Rathausplatz ist zu
 rück! Mitten im Herzen der pulsierenden Landeshauptstadt St. Pölten verw
 andeln kreative Kunsthandwerker: innen den Rathausplatz erneut in eine bun
 te\, lebendige Marktkulisse. Rund um den Platz laden gemütliche Gastgärt
 en zum Verweilen ein – begleitet von fröhlichem Stimmengewirr\, herzhaf
 tem Lachen und der warmen Frühlingssonne. Ein idealer Ort um Freunde zu t
 reffen\, zu&amp;hellip\;
CATEGORIES:Kunsthandwerksmarkt
URL;VALUE=URI:https://vomguenter.com/mc-events/diekunsthandwerker-st-poelte
 n/
METHOD:PUBLISH
END:VEVENT
END:VCALENDAR