BEGIN:VCALENDAR
VERSION:2.0
PRODID:spatie/icalendar-generator
DESCRIPTION:Veranstaltungen von Kunsthandwerk vomGünter
X-WR-CALDESC:Veranstaltungen von Kunsthandwerk vomGünter
REFRESH-INTERVAL;VALUE=DURATION:PT1440M
X-PUBLISHED-TTL:PT1440M
BEGIN:VTIMEZONE
TZID:Europe/Berlin
BEGIN:STANDARD
DTSTART:20251026T030000Z
TZOFFSETFROM:+0200
TZOFFSETTO:+0100
END:STANDARD
BEGIN:DAYLIGHT
DTSTART:20260329T020000Z
TZOFFSETFROM:+0100
TZOFFSETTO:+0200
END:DAYLIGHT
BEGIN:STANDARD
DTSTART:20261025T030000Z
TZOFFSETFROM:+0200
TZOFFSETTO:+0100
END:STANDARD
END:VTIMEZONE
BEGIN:VTIMEZONE
TZID:UTC
BEGIN:STANDARD
DTSTART:20250726T104640Z
TZOFFSETFROM:+0000
TZOFFSETTO:+0000
END:STANDARD
END:VTIMEZONE
BEGIN:VEVENT
UID:24-17
DTSTAMP:20260422T104640Z
SUMMARY:dieKunsthandwerker Tulln
LOCATION:Tulln\, Hauptplatz Hauptplatz  Tulln  3430
ORGANIZER;CN=vomguenter:MAILTO:guenter.humpelstetter@gmx.at
DTSTART;TZID=Europe/Berlin:20260519T100000
DTEND;TZID=Europe/Berlin:20260519T190000
X-ALT-DESC;FMTTYPE=TEXT/HTML:In der Bezirks- und Messestadt an der Donau mi
 t vielen kulturellen Veranstaltungen findet auch heuer wieder der bunte Ku
 nsthandwerksmarkt am Hauptplatz statt. Der schöne Platz mit darunterliege
 nder Tiefgarage\, dem angrenzenden Einkaufszentrum und den schattigen Gast
 gärten ist bestens geeignet einen schönen Tag zu erleben. Besuch unseren
  wunderschönen Markt\, es wird auch ein Kinderprogramm geben\, lass dich&amp;
 hellip\;
CATEGORIES:Kunsthandwerksmarkt
URL;VALUE=URI:https://vomguenter.com/mc-events/diekunsthandwerker-tulln-3/
METHOD:PUBLISH
END:VEVENT
END:VCALENDAR