BEGIN:VCALENDAR
VERSION:2.0
PRODID:spatie/icalendar-generator
DESCRIPTION:Veranstaltungen von Kunsthandwerk vomGünter
X-WR-CALDESC:Veranstaltungen von Kunsthandwerk vomGünter
REFRESH-INTERVAL;VALUE=DURATION:PT1440M
X-PUBLISHED-TTL:PT1440M
BEGIN:VTIMEZONE
TZID:Europe/Berlin
BEGIN:STANDARD
DTSTART:20251026T030000Z
TZOFFSETFROM:+0200
TZOFFSETTO:+0100
END:STANDARD
BEGIN:DAYLIGHT
DTSTART:20260329T020000Z
TZOFFSETFROM:+0100
TZOFFSETTO:+0200
END:DAYLIGHT
BEGIN:STANDARD
DTSTART:20261025T030000Z
TZOFFSETFROM:+0200
TZOFFSETTO:+0100
END:STANDARD
END:VTIMEZONE
BEGIN:VTIMEZONE
TZID:UTC
BEGIN:STANDARD
DTSTART:20250726T105144Z
TZOFFSETFROM:+0000
TZOFFSETTO:+0000
END:STANDARD
END:VTIMEZONE
BEGIN:VEVENT
UID:40-28
DTSTAMP:20260422T105144Z
SUMMARY:Vintage Abendmarkt Krems
LOCATION:Pfarrplatz Krems Pfarrplatz  Krems  3500
ORGANIZER;CN=vomguenter:MAILTO:guenter.humpelstetter@gmx.at
DTSTART;TZID=Europe/Berlin:20260617T160000
DTEND;TZID=Europe/Berlin:20260617T220000
X-ALT-DESC;FMTTYPE=TEXT/HTML:Auch dieses Jahr feiern wir im Juni\, August u
 nd September den beliebten Vintage Abendmarkt. Zahlreiche hochwertige Vint
 age-Mode\, Designschätze\, Retro-Schick &amp;amp\; Kleinigkeiten\, die das Le
 ben schöner machen\, warten auf Schnäppchenjäger. Der Vintage Abendmark
 t wird eine bunte Mischung aus Verkaufsständen\, Food Trucks\, Drinks und
  chilliger Live-Musik – mitten in der Kremser Altstadt. DER Treffpunkt f
 ür Liebhaber des&amp;hellip\;
CATEGORIES:Kunsthandwerksmarkt
URL;VALUE=URI:https://vomguenter.com/mc-events/vintage-abendmarkt-krems-3/
METHOD:PUBLISH
END:VEVENT
END:VCALENDAR