BEGIN:VCALENDAR
VERSION:2.0
PRODID:spatie/icalendar-generator
DESCRIPTION:Veranstaltungen von Kunsthandwerk vomGünter
X-WR-CALDESC:Veranstaltungen von Kunsthandwerk vomGünter
REFRESH-INTERVAL;VALUE=DURATION:PT1440M
X-PUBLISHED-TTL:PT1440M
BEGIN:VTIMEZONE
TZID:Europe/Berlin
BEGIN:STANDARD
DTSTART:20251026T030000Z
TZOFFSETFROM:+0200
TZOFFSETTO:+0100
END:STANDARD
BEGIN:DAYLIGHT
DTSTART:20260329T020000Z
TZOFFSETFROM:+0100
TZOFFSETTO:+0200
END:DAYLIGHT
BEGIN:STANDARD
DTSTART:20261025T030000Z
TZOFFSETFROM:+0200
TZOFFSETTO:+0100
END:STANDARD
END:VTIMEZONE
BEGIN:VTIMEZONE
TZID:UTC
BEGIN:STANDARD
DTSTART:20250726T090344Z
TZOFFSETFROM:+0000
TZOFFSETTO:+0000
END:STANDARD
END:VTIMEZONE
BEGIN:VEVENT
UID:43-31
DTSTAMP:20260422T090344Z
SUMMARY:Kunst im Schloss Wolfpassing
LOCATION:Schloss Wolfpassing Wolfpassing 1  Wolfpassing  3261
ORGANIZER;CN=vomguenter:MAILTO:guenter.humpelstetter@gmx.at
DTSTART;TZID=Europe/Berlin:20260620T100000
DTEND;TZID=Europe/Berlin:20260620T180000
X-ALT-DESC;FMTTYPE=TEXT/HTML:Kunst im Schloss wird 2026 zum fünften Mal vo
 m Verein Kunstgenuss veranstaltet. Bei uns steht Qualität vor Quantität!
   Unser Konzept wurde 2025 mit dem Gütesiegel von Art Austria belohnt. W
 ir sind sehr stolz auf diese Auszeichnung und geben unser Bestes für ein 
 ganz besonderes Wochenende. Der Innenhof von Schloss Wolfpassing ist barri
 erefrei zugänglich! Eintritt: 2&amp;hellip\;
CATEGORIES:Kunsthandwerksmarkt
URL;VALUE=URI:https://vomguenter.com/mc-events/kunst-im-schloss-wolfpassing
 /
METHOD:PUBLISH
END:VEVENT
END:VCALENDAR