BEGIN:VCALENDAR
VERSION:2.0
PRODID:spatie/icalendar-generator
DESCRIPTION:Veranstaltungen von Kunsthandwerk vomGünter
X-WR-CALDESC:Veranstaltungen von Kunsthandwerk vomGünter
REFRESH-INTERVAL;VALUE=DURATION:PT1440M
X-PUBLISHED-TTL:PT1440M
BEGIN:VTIMEZONE
TZID:Europe/Berlin
BEGIN:STANDARD
DTSTART:20251026T030000Z
TZOFFSETFROM:+0200
TZOFFSETTO:+0100
END:STANDARD
BEGIN:DAYLIGHT
DTSTART:20260329T020000Z
TZOFFSETFROM:+0100
TZOFFSETTO:+0200
END:DAYLIGHT
BEGIN:STANDARD
DTSTART:20261025T030000Z
TZOFFSETFROM:+0200
TZOFFSETTO:+0100
END:STANDARD
END:VTIMEZONE
BEGIN:VTIMEZONE
TZID:UTC
BEGIN:STANDARD
DTSTART:20250726T090405Z
TZOFFSETFROM:+0000
TZOFFSETTO:+0000
END:STANDARD
END:VTIMEZONE
BEGIN:VEVENT
UID:45-21
DTSTAMP:20260422T090405Z
SUMMARY:Iris- und Pfingstrosenfest mit Kunsthandwerksmarkt Ornding
LOCATION:Oberleitner Gartenkultur Hauptstraße 31 Ornding Pöchlarn  3380
ORGANIZER;CN=vomguenter:MAILTO:guenter.humpelstetter@gmx.at
DTSTART;TZID=Europe/Berlin:20260529T120000
DTEND;TZID=Europe/Berlin:20260529T180000
X-ALT-DESC;FMTTYPE=TEXT/HTML:Das kommende Iris- und Pfingstrosenfest findet
  vom 29. bis zum 31. Mai 2026 statt. Freitag von 12:00 bis 18:00 Uhr Samst
 ag und Sonntag von 9:00 bis 18:00 Uhr. Es ist eine unserer beiden Hauptver
 anstaltungen mit einem großen Kunsthandwerksmarkt und einem kulturellen u
 nd kulinarischen Rahmenprogramm. Das Motto lautet: \"Wohlfühlen im Garten
 \"\, daher gibt es auch ein&amp;hellip\;
CATEGORIES:Kunsthandwerksmarkt
URL;VALUE=URI:https://vomguenter.com/mc-events/iris-und-pfingstrosenfest-mi
 t-kunsthandwerksmarkt-ornding/
METHOD:PUBLISH
END:VEVENT
END:VCALENDAR