BEGIN:VCALENDAR
VERSION:2.0
PRODID:spatie/icalendar-generator
DESCRIPTION:Veranstaltungen von Kunsthandwerk vomGünter
X-WR-CALDESC:Veranstaltungen von Kunsthandwerk vomGünter
REFRESH-INTERVAL;VALUE=DURATION:PT1440M
X-PUBLISHED-TTL:PT1440M
BEGIN:VTIMEZONE
TZID:Europe/Berlin
BEGIN:STANDARD
DTSTART:20251026T030000Z
TZOFFSETFROM:+0200
TZOFFSETTO:+0100
END:STANDARD
BEGIN:DAYLIGHT
DTSTART:20260329T020000Z
TZOFFSETFROM:+0100
TZOFFSETTO:+0200
END:DAYLIGHT
BEGIN:STANDARD
DTSTART:20261025T030000Z
TZOFFSETFROM:+0200
TZOFFSETTO:+0100
END:STANDARD
END:VTIMEZONE
BEGIN:VTIMEZONE
TZID:UTC
BEGIN:STANDARD
DTSTART:20250726T090303Z
TZOFFSETFROM:+0000
TZOFFSETTO:+0000
END:STANDARD
END:VTIMEZONE
BEGIN:VEVENT
UID:48-35
DTSTAMP:20260422T090303Z
SUMMARY:Taglilienfest mit Kunsthandwerksmarkt Ornding
LOCATION:Oberleitner Gartenkultur Hauptstraße 31 Ornding Pöchlarn  3380
ORGANIZER;CN=vomguenter:MAILTO:guenter.humpelstetter@gmx.at
DTSTART;TZID=Europe/Berlin:20260705T090000
DTEND;TZID=Europe/Berlin:20260705T180000
X-ALT-DESC;FMTTYPE=TEXT/HTML:Das traditionelle Taglilienfest ist der feierl
 iche Höhepunkt unseres Gartenjahres. Wir feiern die farbenprächtige Blü
 te der Taglilien in unserem Garten der Vielfalt mit einem großen Fest. Wi
 r veranstalten zu diesem Anlass einen Kunsthandwerksmarkt der besonderen A
 rt\, wobei wir besonderen Wert auf die Qualität der ausgestellten Produkt
 e legen. Kulinarik und ein kulturelles Rahmenprogramm runden die Feier ab.
CATEGORIES:Kunsthandwerksmarkt
URL;VALUE=URI:https://vomguenter.com/mc-events/taglilienfest-mit-kunsthandw
 erksmarkt-ornding/
METHOD:PUBLISH
END:VEVENT
END:VCALENDAR