BEGIN:VCALENDAR
VERSION:2.0
PRODID:spatie/icalendar-generator
DESCRIPTION:Veranstaltungen von Kunsthandwerk vomGünter
X-WR-CALDESC:Veranstaltungen von Kunsthandwerk vomGünter
REFRESH-INTERVAL;VALUE=DURATION:PT1440M
X-PUBLISHED-TTL:PT1440M
BEGIN:VTIMEZONE
TZID:Europe/Berlin
BEGIN:STANDARD
DTSTART:20251026T030000Z
TZOFFSETFROM:+0200
TZOFFSETTO:+0100
END:STANDARD
BEGIN:DAYLIGHT
DTSTART:20260329T020000Z
TZOFFSETFROM:+0100
TZOFFSETTO:+0200
END:DAYLIGHT
BEGIN:STANDARD
DTSTART:20261025T030000Z
TZOFFSETFROM:+0200
TZOFFSETTO:+0100
END:STANDARD
END:VTIMEZONE
BEGIN:VTIMEZONE
TZID:UTC
BEGIN:STANDARD
DTSTART:20250726T090637Z
TZOFFSETFROM:+0000
TZOFFSETTO:+0000
END:STANDARD
END:VTIMEZONE
BEGIN:VEVENT
UID:50-37
DTSTAMP:20260422T090637Z
SUMMARY:dieKunsthandwerker Podersdorf
LOCATION:Podersdorf\, Strandplatz Strandplatz 5  Podersdorf  7141
ORGANIZER;CN=vomguenter:MAILTO:guenter.humpelstetter@gmx.at
DTSTART;TZID=Europe/Berlin:20260718T100000
DTEND;TZID=Europe/Berlin:20260718T190000
X-ALT-DESC;FMTTYPE=TEXT/HTML:Den Markt gibt es bereits seit vielen Jahren. 
 Der Leuchtturm von Podersdorf und die romantischen Sonnenuntergänge sind 
 Magnet für viele Touristen der Neusiedlerseeregion. Schlendere durch das 
 Marktgelände\, lass dich begeistern vom handwerklichen Können unserer Au
 ssteller und erwirb ein Einzelstück. Das Marktgelände liegt ganz nahe ne
 ben dem Strandbad\, Badespaß und Marktvergnügen lassen sich hier wunderb
 ar verbinden.&amp;hellip\;
CATEGORIES:Kunsthandwerksmarkt
URL;VALUE=URI:https://vomguenter.com/mc-events/diekunsthandwerker-podersdor
 f-2/
METHOD:PUBLISH
END:VEVENT
END:VCALENDAR