BEGIN:VCALENDAR
VERSION:2.0
PRODID:spatie/icalendar-generator
DESCRIPTION:Veranstaltungen von Kunsthandwerk vomGünter
X-WR-CALDESC:Veranstaltungen von Kunsthandwerk vomGünter
REFRESH-INTERVAL;VALUE=DURATION:PT1440M
X-PUBLISHED-TTL:PT1440M
BEGIN:VTIMEZONE
TZID:Europe/Berlin
BEGIN:DAYLIGHT
DTSTART:20260329T020000Z
TZOFFSETFROM:+0100
TZOFFSETTO:+0200
END:DAYLIGHT
BEGIN:STANDARD
DTSTART:20261025T030000Z
TZOFFSETFROM:+0200
TZOFFSETTO:+0100
END:STANDARD
END:VTIMEZONE
BEGIN:VTIMEZONE
TZID:UTC
BEGIN:STANDARD
DTSTART:20250726T090539Z
TZOFFSETFROM:+0000
TZOFFSETTO:+0000
END:STANDARD
END:VTIMEZONE
BEGIN:VEVENT
UID:56-41
DTSTAMP:20260422T090539Z
SUMMARY:Strassertaler Hauermarkt
LOCATION:Marktplatz Marktplatz  Straß im Straßertale  3491
ORGANIZER;CN=vomguenter:MAILTO:guenter.humpelstetter@gmx.at
DTSTART;TZID=Europe/Berlin:20260802T110000
DTEND;TZID=Europe/Berlin:20260802T180000
X-ALT-DESC;FMTTYPE=TEXT/HTML:WILLKOMMEN BEIMSTRASSERTALER HAUERMARKT Der St
 rassertaler Hauermarkt ist ein kulturelles und kulinarisches Highlight des
  Kamptaler Veranstaltungskalenders. Rund um den Gschinzbach in Strass grup
 pieren sich Stände mit regionalen Weinen und vielen Köstlichkeiten. Das 
 Programm mit Feuerwehrübung\, Kinderspielen\, Frühshoppen und dem Sautro
 grennen sorgt für Unterhaltung.
CATEGORIES:Kunsthandwerksmarkt
URL;VALUE=URI:https://vomguenter.com/mc-events/strassertaler-hauermarkt-3/
METHOD:PUBLISH
END:VEVENT
END:VCALENDAR