BEGIN:VCALENDAR
VERSION:2.0
PRODID:spatie/icalendar-generator
DESCRIPTION:Veranstaltungen von Kunsthandwerk vomGünter
X-WR-CALDESC:Veranstaltungen von Kunsthandwerk vomGünter
REFRESH-INTERVAL;VALUE=DURATION:PT1440M
X-PUBLISHED-TTL:PT1440M
BEGIN:VTIMEZONE
TZID:Europe/Berlin
BEGIN:DAYLIGHT
DTSTART:20260329T020000Z
TZOFFSETFROM:+0100
TZOFFSETTO:+0200
END:DAYLIGHT
BEGIN:STANDARD
DTSTART:20261025T030000Z
TZOFFSETFROM:+0200
TZOFFSETTO:+0100
END:STANDARD
END:VTIMEZONE
BEGIN:VTIMEZONE
TZID:UTC
BEGIN:STANDARD
DTSTART:20250726T094658Z
TZOFFSETFROM:+0000
TZOFFSETTO:+0000
END:STANDARD
END:VTIMEZONE
BEGIN:VEVENT
UID:89-73
DTSTAMP:20260422T094658Z
SUMMARY:Kunst Werk Tage Schallaburg
LOCATION:Schallaburg Schallaburg 1  Schallaburg  3382
ORGANIZER;CN=vomguenter:MAILTO:guenter.humpelstetter@gmx.at
DTSTART;TZID=Europe/Berlin:20260815T090000
DTEND;TZID=Europe/Berlin:20260815T180000
X-ALT-DESC;FMTTYPE=TEXT/HTML:Kunstwerktage auf der Schallaburg – Handwerk
 skunst hautnah erleben! Erleben Sie die Kunstwerktage auf der Schallaburg 
 und entdecken Sie einzigartige Handwerkskunst in besonderer Atmosphäre! S
 ind Sie auf der Suche nach besonderen Kunstwerken und einzigartigen Gesche
 nken? Möchten Sie Kunsthandwerker:innen bei ihrer Arbeit über die Schult
 er schauen und die Geschichten hinter ihren Werken entdecken? Lassen Sie s
 ich von&amp;hellip\;
CATEGORIES:Kunsthandwerksmarkt
URL;VALUE=URI:https://vomguenter.com/mc-events/kunst-werk-tage-schallaburg-
 5/
METHOD:PUBLISH
END:VEVENT
END:VCALENDAR